BEGIN:VCALENDAR
VERSION:2.0
PRODID:sh-gruene.de
METHOD:PUBLISH
BEGIN:VTIMEZONE
TZID:Europe/Berlin
X-LIC-LOCATION:Europe/Berlin
BEGIN:DAYLIGHT
TZOFFSETFROM:+0100
TZOFFSETTO:+0200
TZNAME:CEST
DTSTART:19700329T020000
RRULE:FREQ=YEARLY;INTERVAL=1;BYDAY=-1SU;BYMONTH=3
END:DAYLIGHT
BEGIN:STANDARD
TZOFFSETFROM:+0200
TZOFFSETTO:+0100
TZNAME:CET
DTSTART:19701025T030000
RRULE:FREQ=YEARLY;INTERVAL=1;BYDAY=-1SU;BYMONTH=10
END:STANDARD
END:VTIMEZONE
BEGIN:VEVENT
UID:d6fdf952136923330bc57e81e4fe6633@sh-gruene.de
URL;VALUE=URI:https://sh-gruene.de/blog/termine/lag-kinder-jugend-und-fam
 ilie-4/
LOCATION:videokonferenz
SUMMARY:LAG Kinder, Jugend und Familie
DESCRIPTION;ALTREP="data:text/html,%0A%3Cdiv%20class%3D%22wp-block-column
 s%20is-layout-flex%20wp-container-core-columns-is-layout-9d6595d7%20wp-bl
 ock-columns-is-layout-flex%22%3E%0A%3Cdiv%20class%3D%22wp-block-column%20
 mb-md-4%20is-layout-flow%20wp-block-column-is-layout-flow%22%3E%0A%3Cdiv%
 20class%3D%22wp-block-columns%20is-not-stacked-on-mobile%20is-layout-flex
 %20wp-container-core-columns-is-layout-9d6595d7%20wp-block-columns-is-lay
 out-flex%22%3E%0A%3Cdiv%20class%3D%22wp-block-column%20is-content-justifi
 cation-center%20is-layout-constrained%20wp-container-core-column-is-layou
 t-dd26032c%20wp-block-column-is-layout-constrained%22%3E%0A%3Cdiv%20class
 %3D%22wp-block-media-text%20alignwide%20person%20has-shadow%22%3E%3Cfigur
 e%20class%3D%22wp-block-media-text__media%22%3E%3Cimg%20src%3D%22https%3A
 %2F%2Fsh-gruene.de%2Fwp-content%2Fuploads%2F2024%2F09%2FLAG-Kinder_unspla
 sh-1200x1075.jpg%22%20alt%3D%22%22%20class%3D%22wp-image-36619%20size-lar
 ge%22%20%2F%3E%3C%2Ffigure%3E%3Cdiv%20class%3D%22wp-block-media-text__con
 tent%22%3E%0A%3Cp%20class%3D%22person-name%22%3E%3Ca%20href%3D%22https%3A
 %2F%2Fsh-gruene.de%2Flag-kinder-jugend-und-familie%2F%22%3ELAG%20Kinder%2
 C%20Jugend%20%26amp%3B%20Familie%3C%2Fa%3E%3C%2Fp%3E%0A%0A%0A%0A%3Cp%20cl
 ass%3D%22person-description%22%3E%3Ca%20href%3D%22mailto%3Alag.jugend%40s
 h-gruene.de%22%3Elag.jugend%40sh-gruene.de%3C%2Fa%3E%3C%2Fp%3E%0A%0A%0A%0
 A%3Cp%3E%3Cstrong%3ESprecher%2Ainnen%3A%3C%2Fstrong%3E%3Cbr%3EDr.%20Nadin
 e%20Mai%20%28KV%20Pinneberg%29%3Cbr%3EChristian%20Osbar%20%28KV%20Kiel%29
 %3C%2Fp%3E%0A%0A%0A%0A%3Cp%3E%3Ca%20href%3D%22http%3A%2F%2FHier%20kannst%
 20du%20dich%20f%C3%BCr%20die%20Mailingliste%20der%20LAG%20Kinder%20und%20
 Jugend%20anmelden.%22%3E%3Cstrong%3E%3Cstrong%3E%3Ca%20href%3D%22https%3A
 %2F%2Flisten.sh-gruene.de%2Fcgi-bin%2Fmailman%2Flistinfo%2Flv-lag-Kinder-
 u-Jugendpolitik%22%20target%3D%22_blank%22%20rel%3D%22noreferrer%20noopen
 er%22%3EAnmeldung%20Mailingliste%20LAG%20Kinder%2C%20Jugend%20%26amp%3B%2
 0Familie%3C%2Fa%3E%3C%2Fstrong%3E%3C%2Fstrong%3E%3C%2Fa%3E%3C%2Fp%3E%0A%3
 C%2Fdiv%3E%3C%2Fdiv%3E%0A%3C%2Fdiv%3E%0A%3C%2Fdiv%3E%0A%3C%2Fdiv%3E%0A%3C
 %2Fdiv%3E%0A%0A%0A%0A%3Cp%3ELink%20zu%20Sitzung%20auf%20Anfrage.%3C%2Fp%3
 E%0A":LAG Kinder\, Jugend & Familie\n\nlag.jugend@sh-gruene.de\n\nSpreche
 r*innen:Dr. Nadine Mai (KV Pinneberg)Christian Osbar (KV Kiel)\n\nAnmeldu
 ng Mailingliste LAG Kinder\, Jugend & Familie\n\nLink zu Sitzung auf Anfr
 age.
CLASS:PUBLIC
DTSTART;TZID=Europe/Berlin:20260203T193000
DTEND;TZID=Europe/Berlin:20260203T213000
DTSTAMP:20260422T050351
END:VEVENT
END:VCALENDAR